BEGIN:VCALENDAR
VERSION:2.0
PRODID:-//North Wales Sheep Dog Society - ECPv6.15.20//NONSGML v1.0//EN
CALSCALE:GREGORIAN
METHOD:PUBLISH
X-ORIGINAL-URL:https://www.northwalessheepdogsociety.org.uk
X-WR-CALDESC:Events for North Wales Sheep Dog Society
REFRESH-INTERVAL;VALUE=DURATION:PT1H
X-Robots-Tag:noindex
X-PUBLISHED-TTL:PT1H
BEGIN:VTIMEZONE
TZID:UTC
BEGIN:STANDARD
TZOFFSETFROM:+0000
TZOFFSETTO:+0000
TZNAME:UTC
DTSTART:20220101T000000
END:STANDARD
END:VTIMEZONE
BEGIN:VEVENT
DTSTART;TZID=UTC:20230903T073000
DTEND;TZID=UTC:20230903T180000
DTSTAMP:20260421T084910
CREATED:20230803T113828Z
LAST-MODIFIED:20230803T113828Z
UID:18495-1693726200-1693764000@www.northwalessheepdogsociety.org.uk
SUMMARY:Pages 26 & 65 Bodfari nursery (Novice / Class 2 added)
DESCRIPTION:
URL:https://www.northwalessheepdogsociety.org.uk/event/pages-26-65-bodfari-nursery-novice-class-2-added/
LOCATION:Bodfari\, LL164DE
END:VEVENT
BEGIN:VEVENT
DTSTART;TZID=UTC:20230909T073000
DTEND;TZID=UTC:20230909T170000
DTSTAMP:20260421T084910
CREATED:20230904T092705Z
LAST-MODIFIED:20230904T092705Z
UID:18810-1694244600-1694278800@www.northwalessheepdogsociety.org.uk
SUMMARY:Page 66: Betws Garmon (new schedule)
DESCRIPTION:Now 2 sessions \nMorning session Open\, Class 2 and local. \nAfternoon session Open\, Class 2 and Nursery Heat 4 (nursery dogs to be run first if entered in any other class).
URL:https://www.northwalessheepdogsociety.org.uk/event/page-66-betws-garmon-new-schedule/
LOCATION:Betws Garmon\, LL547YY
END:VEVENT
BEGIN:VEVENT
DTSTART;TZID=UTC:20230923T080000
DTEND;TZID=UTC:20230923T170000
DTSTAMP:20260421T084910
CREATED:20230922T074817Z
LAST-MODIFIED:20230922T145442Z
UID:18880-1695456000-1695488400@www.northwalessheepdogsociety.org.uk
SUMMARY:Page 69: Ysbyty Ifan (NOW CANCELLED Friday 3.30pm)
DESCRIPTION: Ysbyty Ifan trial NOW CANCELLED. \n\nOherwyd cyflwr y cae – field waterlogged (3.30 Friday)
URL:https://www.northwalessheepdogsociety.org.uk/event/page-69-ysbyty-ifan-now-one-session/
LOCATION:Ysbyty Ifan\, LL24 0NY
END:VEVENT
BEGIN:VEVENT
DTSTART;TZID=UTC:20230924T090000
DTEND;TZID=UTC:20230924T170000
DTSTAMP:20260421T084910
CREATED:20230919T083403Z
LAST-MODIFIED:20230919T083403Z
UID:18876-1695546000-1695574800@www.northwalessheepdogsociety.org.uk
SUMMARY:Page 69: Ardudwy Nursery (postponed)
DESCRIPTION:Hope to rearrange later – to be advised \n 
URL:https://www.northwalessheepdogsociety.org.uk/event/page-69-ardudwy-nursery-postponed/
LOCATION:Ardudwy nursery\, Sarn Faen Farm\, Talybont\, Bermo\, LL43 2AQ\, United Kingdom
END:VEVENT
END:VCALENDAR