BEGIN:VCALENDAR
VERSION:2.0
PRODID:-//North Wales Sheep Dog Society - ECPv6.15.20//NONSGML v1.0//EN
CALSCALE:GREGORIAN
METHOD:PUBLISH
X-WR-CALNAME:North Wales Sheep Dog Society
X-ORIGINAL-URL:https://www.northwalessheepdogsociety.org.uk
X-WR-CALDESC:Events for North Wales Sheep Dog Society
REFRESH-INTERVAL;VALUE=DURATION:PT1H
X-Robots-Tag:noindex
X-PUBLISHED-TTL:PT1H
BEGIN:VTIMEZONE
TZID:UTC
BEGIN:STANDARD
TZOFFSETFROM:+0000
TZOFFSETTO:+0000
TZNAME:UTC
DTSTART:20220101T000000
END:STANDARD
END:VTIMEZONE
BEGIN:VEVENT
DTSTART;TZID=UTC:20230804T160000
DTEND;TZID=UTC:20230805T180000
DTSTAMP:20260421T095747
CREATED:20230730T111859Z
LAST-MODIFIED:20230730T111859Z
UID:18423-1691164800-1691258400@www.northwalessheepdogsociety.org.uk
SUMMARY:Page 45: Madog (postponed until sileage is cut)
DESCRIPTION:New date to be advised in due course
URL:https://www.northwalessheepdogsociety.org.uk/event/page-45-madog-postponed-until-sileage-is-cut/
LOCATION:Madog\, Porthmadog\, LL486EL
END:VEVENT
BEGIN:VEVENT
DTSTART;TZID=UTC:20230806T083000
DTEND;TZID=UTC:20230806T130000
DTSTAMP:20260421T095747
CREATED:20230315T170148Z
LAST-MODIFIED:20230729T172253Z
UID:17941-1691310600-1691326800@www.northwalessheepdogsociety.org.uk
SUMMARY:Pages 26 & 43/46: Nursery Heat 2 Llanfair Caereinion (new date/venues/catering)
DESCRIPTION:NOT 30th July \nNEW DATE Sunday 6th August at Hendre SY21 0HY  \nCatering will be available on site (added 5th July) \nNWSDS Heat 2 from 8.30 until 1.00pm \nTHEN \nMontgomeryshire open novice and local classes to follow (as page 46 –  venue Hendre) \nAND \nClasses for overseas competitors (as page 46 – venue Hendre) \n  \n 
URL:https://www.northwalessheepdogsociety.org.uk/event/nursey-heat-2-llanfair-caereinion-new-date/
LOCATION:Llanfair Caereinion\, Plasiolyn\, SY210DJ
END:VEVENT
BEGIN:VEVENT
DTSTART;TZID=UTC:20230807T120000
DTEND;TZID=UTC:20230808T180000
DTSTAMP:20260421T095747
CREATED:20230313T174944Z
LAST-MODIFIED:20230807T081153Z
UID:17913-1691409600-1691517600@www.northwalessheepdogsociety.org.uk
SUMMARY:Page 47: Vivod (pre entry closing date)
DESCRIPTION:DYDD MAWRTH 8 AWST/TUESDAY 8 AUGUST \nPRE ENTRY closing date 27th July.  \nNo late entries will be accepted. All entries to be sent to the trial Secretary. \n 
URL:https://www.northwalessheepdogsociety.org.uk/event/vivod-pre-entry-closing-date/
LOCATION:Vivod\, Plas yn Vivod. Llangollen\, LL207LS
END:VEVENT
BEGIN:VEVENT
DTSTART;TZID=UTC:20230808T160000
DTEND;TZID=UTC:20230809T170000
DTSTAMP:20260421T095747
CREATED:20230313T174923Z
LAST-MODIFIED:20230318T160846Z
UID:17905-1691510400-1691600400@www.northwalessheepdogsociety.org.uk
SUMMARY:Page 48: Llanbrynmair (entry fees & prizes)
DESCRIPTION:Start time 8th August: 4pm  \n  \n  \n  \n  \n  \n  \n  \n  \n  \n  \n  \n  \n  \n  \n  \n \n  \n  \n  \n  \n  \n  \n  \n  \n 
URL:https://www.northwalessheepdogsociety.org.uk/event/llanbrynmair-entry-fees-prizes/
LOCATION:Llanbrynmair\, Clegyrddwr\, Pandy\, SY197DY
END:VEVENT
BEGIN:VEVENT
DTSTART;TZID=UTC:20230809T073000
DTEND;TZID=UTC:20230809T180000
DTSTAMP:20260421T095747
CREATED:20230803T112719Z
LAST-MODIFIED:20230803T112719Z
UID:18508-1691566200-1691604000@www.northwalessheepdogsociety.org.uk
SUMMARY:Page 46: Llanfair Caereinion (new location)
DESCRIPTION:Sileage still to be cut so location changed to Hendre SY21 0HY
URL:https://www.northwalessheepdogsociety.org.uk/event/page-46-llanfair-caereinion-new-location/
LOCATION:Llanfair Caereinion\, Plasiolyn\, SY210DJ
END:VEVENT
BEGIN:VEVENT
DTSTART;TZID=UTC:20230815T080000
DTEND;TZID=UTC:20230815T170000
DTSTAMP:20260421T095747
CREATED:20230722T055719Z
LAST-MODIFIED:20230722T055719Z
UID:18384-1692086400-1692118800@www.northwalessheepdogsociety.org.uk
SUMMARY:Page 51: Llanerchymedd (cancelled - held on the 22nd July)
DESCRIPTION:
URL:https://www.northwalessheepdogsociety.org.uk/event/page-51-llanerchymedd-cancelled-held-on-the-22nd-july/
LOCATION:Llanerchymedd\, LL71 8BD
END:VEVENT
BEGIN:VEVENT
DTSTART;TZID=UTC:20230818T080000
DTEND;TZID=UTC:20230819T180000
DTSTAMP:20260421T095747
CREATED:20230813T105527Z
LAST-MODIFIED:20230813T105627Z
UID:18597-1692345600-1692468000@www.northwalessheepdogsociety.org.uk
SUMMARY:Page 53: Dolmelynllyn (correct postcode & spelling!)
DESCRIPTION:Should be : LL40 2HP
URL:https://www.northwalessheepdogsociety.org.uk/event/page-53-dolmelynllyn-correct-postcode/
LOCATION:Dolmelynllyn\, Dolmelynllyn\, Ganllwyd\, Dolgellau\, LL402HP
END:VEVENT
BEGIN:VEVENT
DTSTART;TZID=UTC:20230820T090000
DTEND;TZID=UTC:20230820T170000
DTSTAMP:20260421T095747
CREATED:20230819T081213Z
LAST-MODIFIED:20230819T081302Z
UID:18667-1692522000-1692550800@www.northwalessheepdogsociety.org.uk
SUMMARY:Page 55: Beddgelert (running order)
DESCRIPTION:Beddgelert RO 2023 \n.pdf file
URL:https://www.northwalessheepdogsociety.org.uk/event/page-55-beddgelert-running-order/
LOCATION:Beddgelert\, Hafod y Llan\, Nant Gwynant\, Caernarfon\, LL55 4NQ
END:VEVENT
BEGIN:VEVENT
DTSTART;TZID=UTC:20230821T073000
DTEND;TZID=UTC:20230822T173000
DTSTAMP:20260421T095747
CREATED:20230801T151735Z
LAST-MODIFIED:20230821T184247Z
UID:18460-1692603000-1692725400@www.northwalessheepdogsociety.org.uk
SUMMARY:Page 56: Treialon Aelodau Y Gymdeithas / Society Members Trial (DFF running order)
DESCRIPTION:  \n  \n  \n  \n  \n  \n  \n  \n  \n  \n  \n  \n  \n  \n  \n  \n  \n  \n  \n  \n  \n  \n  \n  \n \n  \n  \n  \n  \n  \n  \n  \n  \n  \n  \n  \n  \n  \n  \n  \n  \n  \n  \n  \n  \n  \n  \n  \n  \n  \n  \n  \n  \n  \n  \n  \n  \n  \n  \n  \n  \n  \n  \n  \n  \n  \n  \n  \n  \n  \n  \n  \n  \n  \n  \n  \n  \n  \n  \n  \n  \n  \n  \n  \n  \n  \n  \n  \n  \n  \n  \n  \n  \n  \n  \n  \n  \n  \n  \n  \n  \n 
URL:https://www.northwalessheepdogsociety.org.uk/event/page-56-treialon-aelodau-y-gymdeithas-society-members-trial-programme-running-order/
LOCATION:Bwlchtocyn\, Cim Farm\, Pwllheli\, LL53 7BY
ATTACH;FMTTYPE=image/jpeg:https://www.northwalessheepdogsociety.org.uk/nwsds-contents/uploads/2023/08/365053846_757821689684706_5711790210486495709_n.jpg
ORGANIZER;CN="Martin Davidsson (Adroddiad gwasanaethau Gweinyddol%C2%A0 ac Ariannol%C2%A0 / Administrative & Financial services)":MAILTO:admin@northwalessheepdogsociety.org.uk
END:VEVENT
BEGIN:VEVENT
DTSTART;TZID=UTC:20230828T080000
DTEND;TZID=UTC:20230828T170000
DTSTAMP:20260421T095747
CREATED:20230826T111623Z
LAST-MODIFIED:20230826T111623Z
UID:18725-1693209600-1693242000@www.northwalessheepdogsociety.org.uk
SUMMARY:Page 61: Llandderfel (cancelled)
DESCRIPTION:Page 61: Llandderfel (cancelled) received voicemail “cancelled on Monday”.
URL:https://www.northwalessheepdogsociety.org.uk/event/page-61-llandderfel-cancelled/
LOCATION:Llandderfel\, LL237RD
END:VEVENT
BEGIN:VEVENT
DTSTART;TZID=UTC:20230828T080000
DTEND;TZID=UTC:20230829T170000
DTSTAMP:20260421T095747
CREATED:20230825T170813Z
LAST-MODIFIED:20230826T162037Z
UID:18721-1693209600-1693328400@www.northwalessheepdogsociety.org.uk
SUMMARY:Page 63: Llanwddyn (new venue / catering cash only)
DESCRIPTION:New venue: \nTyllwyd Farm \, Llanwddyn. SY10 0LY \nwhat3words  /// buggy.anchors.basis \nHad to change due to silage still on the field. \nPlease note catering is CASH only. \n 
URL:https://www.northwalessheepdogsociety.org.uk/event/page-63-llanwddyn-new-venue/
LOCATION:Llanwddyn (2)\, Tyllwyd Farm\, what3words  /// buggy.anchors.basis\, SY10 0LY\, United Kingdom
END:VEVENT
END:VCALENDAR