BEGIN:VCALENDAR
VERSION:2.0
PRODID:-//North Wales Sheep Dog Society - ECPv6.15.20//NONSGML v1.0//EN
CALSCALE:GREGORIAN
METHOD:PUBLISH
X-WR-CALNAME:North Wales Sheep Dog Society
X-ORIGINAL-URL:https://www.northwalessheepdogsociety.org.uk
X-WR-CALDESC:Events for North Wales Sheep Dog Society
REFRESH-INTERVAL;VALUE=DURATION:PT1H
X-Robots-Tag:noindex
X-PUBLISHED-TTL:PT1H
BEGIN:VTIMEZONE
TZID:UTC
BEGIN:STANDARD
TZOFFSETFROM:+0000
TZOFFSETTO:+0000
TZNAME:UTC
DTSTART:20220101T000000
END:STANDARD
END:VTIMEZONE
BEGIN:VEVENT
DTSTART;TZID=UTC:20230610T080000
DTEND;TZID=UTC:20230610T180000
DTSTAMP:20260421T123104
CREATED:20230531T134254Z
LAST-MODIFIED:20230531T134254Z
UID:18213-1686384000-1686420000@www.northwalessheepdogsociety.org.uk
SUMMARY:Page 36: Rhosgoch "The Ring" (running order)
DESCRIPTION:
URL:https://www.northwalessheepdogsociety.org.uk/event/page-36-rhosgoch-the-ring-running-order/
LOCATION:Rhosgoch\, LL66 9AA
END:VEVENT
BEGIN:VEVENT
DTSTART;TZID=UTC:20230616T063000
DTEND;TZID=UTC:20230617T200000
DTSTAMP:20260421T123104
CREATED:20230608T074716Z
LAST-MODIFIED:20230608T074923Z
UID:18237-1686897000-1687032000@www.northwalessheepdogsociety.org.uk
SUMMARY:Page 37: Llangelynnin (start times)
DESCRIPTION:Lot of runs to get through on Friday so please be on time for your runs we can’t reallocate if you miss your run!\n\nRunning order posted on Society Facebook members private group\n\nYour cooperation in this will be much appreciated.\n\nStart time Friday will be 6:30am & 8:00am on Saturday
URL:https://www.northwalessheepdogsociety.org.uk/event/page-37-llangelynnin-start-times/
END:VEVENT
BEGIN:VEVENT
DTSTART;TZID=UTC:20230624T080000
DTEND;TZID=UTC:20230624T180000
DTSTAMP:20260421T123104
CREATED:20230621T075933Z
LAST-MODIFIED:20230621T080528Z
UID:18274-1687593600-1687629600@www.northwalessheepdogsociety.org.uk
SUMMARY:Page 38: Abersoch & Llanengan (cancelled on 20th June)
DESCRIPTION:Due to a number of the committee being ill have unfortunately had to cancel.
URL:https://www.northwalessheepdogsociety.org.uk/event/page-38-abersoch-llanengan-cancelled-on-21st-june/
LOCATION:Abersoch & Llanengan\, LL537UE
END:VEVENT
END:VCALENDAR