BEGIN:VCALENDAR
VERSION:2.0
PRODID:-//North Wales Sheep Dog Society - ECPv6.15.20//NONSGML v1.0//EN
CALSCALE:GREGORIAN
METHOD:PUBLISH
X-ORIGINAL-URL:https://www.northwalessheepdogsociety.org.uk
X-WR-CALDESC:Events for North Wales Sheep Dog Society
REFRESH-INTERVAL;VALUE=DURATION:PT1H
X-Robots-Tag:noindex
X-PUBLISHED-TTL:PT1H
BEGIN:VTIMEZONE
TZID:UTC
BEGIN:STANDARD
TZOFFSETFROM:+0000
TZOFFSETTO:+0000
TZNAME:UTC
DTSTART:20250101T000000
END:STANDARD
END:VTIMEZONE
BEGIN:VEVENT
DTSTART;TZID=UTC:20260509T100000
DTEND;TZID=UTC:20260509T170000
DTSTAMP:20260419T143603
CREATED:20260217T143646Z
LAST-MODIFIED:20260411T105101Z
UID:21851-1778320800-1778346000@www.northwalessheepdogsociety.org.uk
SUMMARY:Bala: live field sheepdog sale
DESCRIPTION:  \n \n  \n  \n  \n  \nBALA SHEEPDOG TRIALS COMMITTEE\nANNUAL WORKING SHEEPDOG AUCTION SALES\nLIVE ON FIELD SALE (NEW FIELD LAYOUT)\nWITH ONLINE BIDDING AVAILABLE DURING THE SALE \nDydd Sadwrn / Saturday 09.05.2026\nDechrau / Start @ 10.00 am\nDyddiad Cau / Closing Date: 10.04.2026 \n@ The Rhiwlas Estate\, Bala. LL23 7NP\nBy kind permision of The Rhiwlas Estate \nEntry forms available online at  \nhttp://www.ruthinfarmers.co.uk \nor from: \nRuthin Farmers Auction Co Ltd\nThe Vale of Clwyd Agricultural Centre\,\nParc Glasdir\, Ruthin. LL15 1PB\nTelephone: 01824 705000 \nAuctioneers mobile numbers for day of sale:\nElfor Morris – 07867 977705\nDafydd Parry – 07780 924460 \n 
URL:https://www.northwalessheepdogsociety.org.uk/event/bala-live-field-sheepdog-sale/
LOCATION:Bala\, Rhiwlas Estate\, Bala\, LL23 7NP
END:VEVENT
BEGIN:VEVENT
DTSTART;TZID=UTC:20260523T080000
DTEND;TZID=UTC:20260523T180000
DTSTAMP:20260419T143603
CREATED:20260312T183444Z
LAST-MODIFIED:20260313T082225Z
UID:21891-1779523200-1779559200@www.northwalessheepdogsociety.org.uk
SUMMARY:Rhiw (Treheli): diary addition
DESCRIPTION:Ffôn/Tel: Mark O’Neill  07805 594337 \n/// gambles.they.total \nDYDD SADWRN 23 MAI/SATURDAY 23 MAY \nDechreuir am/Start 08.00 \nCofrestru ar y cae/Entry on the field \nAGORED/OPEN Tâl cystadlu/Entry fee: £10.00 \nGwobrau/Prizes: £50; £40; £30; £20; £10; £5 \nDOSBARTH 2/CLASS 2 Tâl cystadlu/Entry fee: £10.00 \nGwobrau/Prizes: £50; £40; £30 \n# Help with letting out would be appreciated # \nAr y safle / On site: Arlwyo / Catering & Toiledau / Toilets \n  \n 
URL:https://www.northwalessheepdogsociety.org.uk/event/rhiw-treheli-diary-addition/
LOCATION:Rhiw (Treheli)\, Treheli\, Rhiw\, Pwllheli\, LL53 8AA\, United Kingdom
END:VEVENT
BEGIN:VEVENT
DTSTART;TZID=UTC:20260524T080000
DTEND;TZID=UTC:20260524T170000
DTSTAMP:20260419T143603
CREATED:20260405T110338Z
LAST-MODIFIED:20260411T111506Z
UID:21950-1779609600-1779642000@www.northwalessheepdogsociety.org.uk
SUMMARY:Carmel (Llanerchymedd): diary addition (details added)
DESCRIPTION:  \nFundraiser for Royal Welsh Show 2027 (Ynys Mon) \nLarge rising field\, great outrun (see images) \nBeirniaid/Judges: Vaughan Hughes & Rhion Owen \nDechreuir am/Start 07.30 \nCofrestru ar y cae/Entry on the field \n2 SESIWN / 2 SESSIONS  \nMorning session limited to 35 dogs – 2 max. entries per handler  \nAfternoon session – no limit to number of dogs per handler \nBoth sessions bookable from start \nAGORED/OPEN Tâl cystadlu/Entry fee: £10.00 \nArlwyo/Catering \n  \n  \n  \n  \nPostcode: LL64 4TN \nwhat3words  \n/// enjoy.interrupt.generated \n \n  \n \n 
URL:https://www.northwalessheepdogsociety.org.uk/event/carmel-llanerchymedd-diary-addition/
LOCATION:Carmel (Llanerchymedd)\, Fferm Ty Croes\, Llanerchymedd\, LL644TN\, United Kingdom
END:VEVENT
BEGIN:VEVENT
DTSTART;TZID=UTC:20260815T080000
DTEND;TZID=UTC:20260815T170000
DTSTAMP:20260419T143603
CREATED:20260312T104715Z
LAST-MODIFIED:20260312T104715Z
UID:21849-1786780800-1786813200@www.northwalessheepdogsociety.org.uk
SUMMARY:Llanuwchllyn (pages 52/34): diary details updated
DESCRIPTION:DIARY DETAILS UPDATED  \n  \nDYDD GWENER 14 AWST/FRIDAY 14 AUGUST \nBeirniad/Judge: John Dyke \nDYDD SADWRN 15 AWST/SATURDAY 15 AUGUST \nBeirniad/Judge: Sion Thomas \nAGORED/OPEN Tâl cystadlu/Entry fee: £5.00 \nDOSBARTH 2/CLASS 2 Tâl cystadlu/Entry fee: £4.00 \nYMDRINWYR IFANC/YOUNG HANDLERS (o dan/under 25)  \nGwobrau/Prizes: £20; £10 \n 
URL:https://www.northwalessheepdogsociety.org.uk/event/llanuwchllyn-pages-52-34-diary-details-updated/
LOCATION:Llanuwchllyn\, Show field\, LL23 7TT
END:VEVENT
BEGIN:VEVENT
DTSTART;TZID=UTC:20260823T080000
DTEND;TZID=UTC:20260823T180000
DTSTAMP:20260419T143603
CREATED:20260319T095004Z
LAST-MODIFIED:20260319T095004Z
UID:21921-1787472000-1787508000@www.northwalessheepdogsociety.org.uk
SUMMARY:Dolmelynllyn (page 57): trial on Sunday 23rd August
DESCRIPTION:Day of the trial is SUNDAY 23rd August not Saturday as stated
URL:https://www.northwalessheepdogsociety.org.uk/event/dolmelynllyn-page-57-trial-on-sunday-23rd-august/
LOCATION:Dolmelynllyn\, Dolmelynllyn\, Ganllwyd\, Dolgellau\, LL402HP
END:VEVENT
BEGIN:VEVENT
DTSTART;TZID=UTC:20260829T080000
DTEND;TZID=UTC:20260829T180000
DTSTAMP:20260419T143603
CREATED:20260315T174026Z
LAST-MODIFIED:20260315T174026Z
UID:21919-1787990400-1788026400@www.northwalessheepdogsociety.org.uk
SUMMARY:Ceiriog Valley (page 58): judges details corrected
DESCRIPTION:DYDD SADWRN / SATURDAY  \nOpen judges are NOT as stated\, they are the judges for Vivod
URL:https://www.northwalessheepdogsociety.org.uk/event/ceiriog-valley-page-58-judges-details-corrected/
LOCATION:Ceiriog Valley\, LL207AB
END:VEVENT
END:VCALENDAR