BEGIN:VCALENDAR
VERSION:2.0
PRODID:-//North Wales Sheep Dog Society - ECPv6.15.20//NONSGML v1.0//EN
CALSCALE:GREGORIAN
METHOD:PUBLISH
X-WR-CALNAME:North Wales Sheep Dog Society
X-ORIGINAL-URL:https://www.northwalessheepdogsociety.org.uk
X-WR-CALDESC:Events for North Wales Sheep Dog Society
REFRESH-INTERVAL;VALUE=DURATION:PT1H
X-Robots-Tag:noindex
X-PUBLISHED-TTL:PT1H
BEGIN:VTIMEZONE
TZID:UTC
BEGIN:STANDARD
TZOFFSETFROM:+0000
TZOFFSETTO:+0000
TZNAME:UTC
DTSTART:20220101T000000
END:STANDARD
END:VTIMEZONE
BEGIN:VEVENT
DTSTART;TZID=UTC:20231008T100000
DTEND;TZID=UTC:20231008T150000
DTSTAMP:20260421T084011
CREATED:20230928T104723Z
LAST-MODIFIED:20231007T145137Z
UID:18909-1696759200-1696777200@www.northwalessheepdogsociety.org.uk
SUMMARY:Page 70: Cwm Pennant Nursery 2 Heats (NEW DATE/VENUE FORT BELAN\, DINAS DINLLE & NO Open)
DESCRIPTION:NEW DATE and now NO OPEN included \nNOT 30th September \nVENUE – DINAS DINLLE (Cwm Pennant sheep) \n LATEST: will now include 2 HEATS (different judges and course) \n 
URL:https://www.northwalessheepdogsociety.org.uk/event/page-70-cwm-pennant-nursery-heat-new-date-no-open/
LOCATION:Llanllyfni\, LL54 5TP
END:VEVENT
END:VCALENDAR