BEGIN:VCALENDAR
VERSION:2.0
PRODID:-//North Wales Sheep Dog Society - ECPv6.15.20//NONSGML v1.0//EN
CALSCALE:GREGORIAN
METHOD:PUBLISH
X-WR-CALNAME:North Wales Sheep Dog Society
X-ORIGINAL-URL:https://www.northwalessheepdogsociety.org.uk
X-WR-CALDESC:Events for North Wales Sheep Dog Society
REFRESH-INTERVAL;VALUE=DURATION:PT1H
X-Robots-Tag:noindex
X-PUBLISHED-TTL:PT1H
BEGIN:VTIMEZONE
TZID:UTC
BEGIN:STANDARD
TZOFFSETFROM:+0000
TZOFFSETTO:+0000
TZNAME:UTC
DTSTART:20220101T000000
END:STANDARD
END:VTIMEZONE
BEGIN:VEVENT
DTSTART;TZID=UTC:20230815T080000
DTEND;TZID=UTC:20230815T170000
DTSTAMP:20260421T111508
CREATED:20230722T055719Z
LAST-MODIFIED:20230722T055719Z
UID:18384-1692086400-1692118800@www.northwalessheepdogsociety.org.uk
SUMMARY:Page 51: Llanerchymedd (cancelled - held on the 22nd July)
DESCRIPTION:
URL:https://www.northwalessheepdogsociety.org.uk/event/page-51-llanerchymedd-cancelled-held-on-the-22nd-july/
LOCATION:Llanerchymedd\, LL71 8BD
END:VEVENT
END:VCALENDAR