BEGIN:VCALENDAR
VERSION:2.0
PRODID:-//North Wales Sheep Dog Society - ECPv6.15.20//NONSGML v1.0//EN
CALSCALE:GREGORIAN
METHOD:PUBLISH
X-WR-CALNAME:North Wales Sheep Dog Society
X-ORIGINAL-URL:https://www.northwalessheepdogsociety.org.uk
X-WR-CALDESC:Events for North Wales Sheep Dog Society
REFRESH-INTERVAL;VALUE=DURATION:PT1H
X-Robots-Tag:noindex
X-PUBLISHED-TTL:PT1H
BEGIN:VTIMEZONE
TZID:UTC
BEGIN:STANDARD
TZOFFSETFROM:+0000
TZOFFSETTO:+0000
TZNAME:UTC
DTSTART:20220101T000000
END:STANDARD
END:VTIMEZONE
BEGIN:VEVENT
DTSTART;TZID=UTC:20230808T160000
DTEND;TZID=UTC:20230809T170000
DTSTAMP:20260421T111549
CREATED:20230313T174923Z
LAST-MODIFIED:20230318T160846Z
UID:17905-1691510400-1691600400@www.northwalessheepdogsociety.org.uk
SUMMARY:Page 48: Llanbrynmair (entry fees & prizes)
DESCRIPTION:Start time 8th August: 4pm  \n  \n  \n  \n  \n  \n  \n  \n  \n  \n  \n  \n  \n  \n  \n  \n \n  \n  \n  \n  \n  \n  \n  \n  \n 
URL:https://www.northwalessheepdogsociety.org.uk/event/llanbrynmair-entry-fees-prizes/
LOCATION:Llanbrynmair\, Clegyrddwr\, Pandy\, SY197DY
END:VEVENT
BEGIN:VEVENT
DTSTART;TZID=UTC:20230809T073000
DTEND;TZID=UTC:20230809T180000
DTSTAMP:20260421T111549
CREATED:20230803T112719Z
LAST-MODIFIED:20230803T112719Z
UID:18508-1691566200-1691604000@www.northwalessheepdogsociety.org.uk
SUMMARY:Page 46: Llanfair Caereinion (new location)
DESCRIPTION:Sileage still to be cut so location changed to Hendre SY21 0HY
URL:https://www.northwalessheepdogsociety.org.uk/event/page-46-llanfair-caereinion-new-location/
LOCATION:Llanfair Caereinion\, Plasiolyn\, SY210DJ
END:VEVENT
END:VCALENDAR