BEGIN:VCALENDAR
VERSION:2.0
PRODID:-//North Wales Sheep Dog Society - ECPv6.15.20//NONSGML v1.0//EN
CALSCALE:GREGORIAN
METHOD:PUBLISH
X-WR-CALNAME:North Wales Sheep Dog Society
X-ORIGINAL-URL:https://www.northwalessheepdogsociety.org.uk
X-WR-CALDESC:Events for North Wales Sheep Dog Society
REFRESH-INTERVAL;VALUE=DURATION:PT1H
X-Robots-Tag:noindex
X-PUBLISHED-TTL:PT1H
BEGIN:VTIMEZONE
TZID:UTC
BEGIN:STANDARD
TZOFFSETFROM:+0000
TZOFFSETTO:+0000
TZNAME:UTC
DTSTART:20220101T000000
END:STANDARD
END:VTIMEZONE
BEGIN:VEVENT
DTSTART;TZID=UTC:20230804T160000
DTEND;TZID=UTC:20230805T180000
DTSTAMP:20260421T111423
CREATED:20230730T111859Z
LAST-MODIFIED:20230730T111859Z
UID:18423-1691164800-1691258400@www.northwalessheepdogsociety.org.uk
SUMMARY:Page 45: Madog (postponed until sileage is cut)
DESCRIPTION:New date to be advised in due course
URL:https://www.northwalessheepdogsociety.org.uk/event/page-45-madog-postponed-until-sileage-is-cut/
LOCATION:Madog\, Porthmadog\, LL486EL
END:VEVENT
END:VCALENDAR