BEGIN:VCALENDAR
VERSION:2.0
PRODID:-//North Wales Sheep Dog Society - ECPv6.15.20//NONSGML v1.0//EN
CALSCALE:GREGORIAN
METHOD:PUBLISH
X-ORIGINAL-URL:https://www.northwalessheepdogsociety.org.uk
X-WR-CALDESC:Events for North Wales Sheep Dog Society
REFRESH-INTERVAL;VALUE=DURATION:PT1H
X-Robots-Tag:noindex
X-PUBLISHED-TTL:PT1H
BEGIN:VTIMEZONE
TZID:UTC
BEGIN:STANDARD
TZOFFSETFROM:+0000
TZOFFSETTO:+0000
TZNAME:UTC
DTSTART:20220101T000000
END:STANDARD
END:VTIMEZONE
BEGIN:VEVENT
DTSTART;TZID=UTC:20230616T063000
DTEND;TZID=UTC:20230617T200000
DTSTAMP:20260421T134327
CREATED:20230608T074716Z
LAST-MODIFIED:20230608T074923Z
UID:18237-1686897000-1687032000@www.northwalessheepdogsociety.org.uk
SUMMARY:Page 37: Llangelynnin (start times)
DESCRIPTION:Lot of runs to get through on Friday so please be on time for your runs we can’t reallocate if you miss your run!\n\nRunning order posted on Society Facebook members private group\n\nYour cooperation in this will be much appreciated.\n\nStart time Friday will be 6:30am & 8:00am on Saturday
URL:https://www.northwalessheepdogsociety.org.uk/event/page-37-llangelynnin-start-times/
END:VEVENT
END:VCALENDAR