BEGIN:VCALENDAR
VERSION:2.0
PRODID:-//North Wales Sheep Dog Society - ECPv6.15.20//NONSGML v1.0//EN
CALSCALE:GREGORIAN
METHOD:PUBLISH
X-WR-CALNAME:North Wales Sheep Dog Society
X-ORIGINAL-URL:https://www.northwalessheepdogsociety.org.uk
X-WR-CALDESC:Events for North Wales Sheep Dog Society
REFRESH-INTERVAL;VALUE=DURATION:PT1H
X-Robots-Tag:noindex
X-PUBLISHED-TTL:PT1H
BEGIN:VTIMEZONE
TZID:UTC
BEGIN:STANDARD
TZOFFSETFROM:+0000
TZOFFSETTO:+0000
TZNAME:UTC
DTSTART:20220101T000000
END:STANDARD
END:VTIMEZONE
BEGIN:VEVENT
DTSTART;TZID=UTC:20230520T080000
DTEND;TZID=UTC:20230520T120000
DTSTAMP:20260421T151250
CREATED:20230510T125302Z
LAST-MODIFIED:20230511T091411Z
UID:18098-1684569600-1684584000@www.northwalessheepdogsociety.org.uk
SUMMARY:New: Beginners only & Young Handlers trial (Ruthin)
DESCRIPTION:To be held on the same day as the Fundraiser Rugby game. \nBeginners only (no open placings) & Young Handlers (under 21). \n 
URL:https://www.northwalessheepdogsociety.org.uk/event/beginners-young-handlers-trial-ruthin/
LOCATION:Penyrhengoed\, LL15 2AL
END:VEVENT
BEGIN:VEVENT
DTSTART;TZID=UTC:20230520T080000
DTEND;TZID=UTC:20230520T170000
DTSTAMP:20260421T151250
CREATED:20230317T183756Z
LAST-MODIFIED:20230318T161327Z
UID:17954-1684569600-1684602000@www.northwalessheepdogsociety.org.uk
SUMMARY:Page 34: Ruthin rugby game (new date)
DESCRIPTION:2025 International fundraiser \nNEW DATE 20th May NOT 27th  \n 
URL:https://www.northwalessheepdogsociety.org.uk/event/ruthin-rugby-game-new-date/
LOCATION:Ruthin rugby club\, Pavilion Cae Ddol\, Ruthin\, LL15 2AA
END:VEVENT
BEGIN:VEVENT
DTSTART;TZID=UTC:20230520T080000
DTEND;TZID=UTC:20230521T170000
DTSTAMP:20260421T151250
CREATED:20230318T160741Z
LAST-MODIFIED:20230318T161250Z
UID:17957-1684569600-1684688400@www.northwalessheepdogsociety.org.uk
SUMMARY:Page 33: Cwm Main (cancelled)
DESCRIPTION:Due to unforeseen circumstances the trial has been cancelled this year. \nApologies for any disappointment. \n  \n 
URL:https://www.northwalessheepdogsociety.org.uk/event/cwm-main-cancelled-page-33/
LOCATION:Cwm Main\, Ty Nant Llwyn\, LL21 0PE
END:VEVENT
END:VCALENDAR