BEGIN:VCALENDAR
VERSION:2.0
PRODID:-//North Wales Sheep Dog Society - ECPv6.15.20//NONSGML v1.0//EN
CALSCALE:GREGORIAN
METHOD:PUBLISH
X-WR-CALNAME:North Wales Sheep Dog Society
X-ORIGINAL-URL:https://www.northwalessheepdogsociety.org.uk
X-WR-CALDESC:Events for North Wales Sheep Dog Society
REFRESH-INTERVAL;VALUE=DURATION:PT1H
X-Robots-Tag:noindex
X-PUBLISHED-TTL:PT1H
BEGIN:VTIMEZONE
TZID:UTC
BEGIN:STANDARD
TZOFFSETFROM:+0000
TZOFFSETTO:+0000
TZNAME:UTC
DTSTART:20220101T000000
END:STANDARD
END:VTIMEZONE
BEGIN:VEVENT
DTSTART;TZID=UTC:20230509T180000
DTEND;TZID=UTC:20230510T180000
DTSTAMP:20260421T151406
CREATED:20230502T083453Z
LAST-MODIFIED:20230502T084524Z
UID:18043-1683655200-1683741600@www.northwalessheepdogsociety.org.uk
SUMMARY:Myfywyr Coleg Cambria students (Llysfasi): clinic hyfforddi cŵn defaid / sheepdog training clinics
DESCRIPTION:Cyrsiau Hyfforddi Cwn Defaid i fyfyrwyr Coleg Cambria (Llysfasi).\n\n\n\nNos Fawrth y 9fed/ Nos Fercher 10fed Mai am 6.00pm\n\n\n\nGyda Gethin Jones ac Arwyn Davies\n\n\n\nMae’r cyrsiau eu hunain yn caedig i fyfyrwyr Coleg Cambria ond mae croeso i bobl ddod i wylio’r cyrsiau\, er mwyn cael flas ar y broses o hyfforddi a gweithio cwn\, bydd nifer o unigolion cydnabyddus a phrofiadol ar gael i holi a thrafod\, bydd hefyd gyfle i archebu aelodaeth Cymdeithas Cwn Defaid Gogledd Cymru yn rhad ac am ddim i bobl ifanc hyd at 27 oed. I ddysgu rhagor ewch i Cymdeithas Cŵn Defaid Gogledd Cymru\n\n\n\nhttps://www.northwalessheepdogsociety.org.uk/cy/\n\nSheepdog Training Clinics for Coleg Cambria students (Llysfasi).\n\n\n\n\nTuesday 9th/ Wednesday 10th May at 6.00pm\n\n\n\nWith Gethin Jones and Arwyn Davies\n\n\n\nThe courses themselves are for Coleg Cambria students only but spectators are welcome\, come and get a taste of the process of training and working sheepdogs\, a number of known and experienced handlers will be available to answer any questions\, there will also be an opportunity to become a member of the North Wales Sheepdog Association free of charge for young people up to the age of 27. To learn more go to Cymdeithas Cŵn Defaid Gogledd Cymru.\n\n\nhttps://www.northwalessheepdogsociety.org.uk/
URL:https://www.northwalessheepdogsociety.org.uk/event/coleg-cambria-students-llysfasi-sheepdog-training-clinics/
LOCATION:Llysfasi\, Coleg Llysfasi\, Pentrecelyn\, Ruthin\, LL152LB
END:VEVENT
END:VCALENDAR